BEGIN:VCALENDAR
VERSION:2.0
PRODID:-//Tukios.com/
BEGIN:VEVENT
UID:2094e7ab-fc1f-4602-af15-9e640a14b9b6@www.fischerfuneralservices.com
DTSTAMP:20260421T221932Z
DTSTART:20260423T213000Z
DTEND:20260423T223000Z
SUMMARY:Funeral Service
DESCRIPTION:
URL:https://www.fischerfuneralservices.com/obituaries/john-mullins
LOCATION: 1741 Lunsford Mill Rd  Hiltons VA 24258
GEO:36.6463578;-82.4397484
END:VEVENT
END:VCALENDAR