BEGIN:VCALENDAR
VERSION:2.0
PRODID:-//Tukios.com/
BEGIN:VEVENT
UID:4ca82470-ccf0-4771-b046-6e9d55b0c551@www.fischerfuneralservices.com
DTSTAMP:20260421T221532Z
DTSTART:20260423T200000Z
DTEND:20260423T213000Z
SUMMARY:Visitation
DESCRIPTION:
URL:https://www.fischerfuneralservices.com/obituaries/john-mullins
LOCATION: 1741 Lunsford Mill Rd  Hiltons VA 24258
GEO:36.6463578;-82.4397484
END:VEVENT
END:VCALENDAR