BEGIN:VCALENDAR
VERSION:2.0
PRODID:-//Tukios.com/
BEGIN:VEVENT
UID:5dacb311-2e89-422f-8c78-13ddea7ccfc4@www.fischerfuneralservices.com
DTSTAMP:20260424T084023Z
DTSTART:20260516T200000Z
DTEND:20260517T000000Z
SUMMARY:Celebration of Life
DESCRIPTION:
URL:https://www.fischerfuneralservices.com/obituaries/david-burke
LOCATION:The Outdoorsman Club 4535 Highway 11 West  Blountville TN 37617
GEO:36.5698435;-82.3964233
END:VEVENT
END:VCALENDAR